BEGIN:VCALENDAR
VERSION:2.0
PRODID:-//Clear Path for Veterans New England - ECPv6.9.0//NONSGML v1.0//EN
CALSCALE:GREGORIAN
METHOD:PUBLISH
X-WR-CALNAME:Clear Path for Veterans New England
X-ORIGINAL-URL:https://www.clearpathne.org
X-WR-CALDESC:Events for Clear Path for Veterans New England
REFRESH-INTERVAL;VALUE=DURATION:PT1H
X-Robots-Tag:noindex
X-PUBLISHED-TTL:PT1H
BEGIN:VTIMEZONE
TZID:America/New_York
BEGIN:DAYLIGHT
TZOFFSETFROM:-0500
TZOFFSETTO:-0400
TZNAME:EDT
DTSTART:20210314T070000
END:DAYLIGHT
BEGIN:STANDARD
TZOFFSETFROM:-0400
TZOFFSETTO:-0500
TZNAME:EST
DTSTART:20211107T060000
END:STANDARD
END:VTIMEZONE
BEGIN:VEVENT
DTSTART;TZID=America/New_York:20210526T190000
DTEND;TZID=America/New_York:20210526T193000
DTSTAMP:20260421T115247
CREATED:20210428T162841Z
LAST-MODIFIED:20210526T232601Z
UID:6433-1622055600-1622057400@www.clearpathne.org
SUMMARY:iRest Yoga Nidra (zoom) with Wendy Arena
DESCRIPTION:https://us04web.zoom.us/j/73172176603…\nThis event has a video call.\nJoin: https://meet.google.com/kmd-dzgb-ohz\n(US) +1 386-866-5261 PIN: 636201138#\nView more phone numbers: https://tel.meet/kmd-dzgb-ohz?pin=6816844805181&hs=7
URL:https://www.clearpathne.org/events/irest-yoga-nidra-zoom-with-wendy-arena-2/
ATTACH;FMTTYPE=image/png:https://www.clearpathne.org/wp-content/uploads/2021/05/Yoga.png
ORGANIZER;CN="Events":MAILTO:c_3ivfavssqhsirsffhbds66kve8@group.calendar.google.com
END:VEVENT
BEGIN:VEVENT
DTSTART;TZID=America/New_York:20210522T070000
DTEND;TZID=America/New_York:20210522T150000
DTSTAMP:20260421T115247
CREATED:20210518T194537Z
LAST-MODIFIED:20210522T185704Z
UID:7062-1621666800-1621695600@www.clearpathne.org
SUMMARY:Garden Build out
DESCRIPTION:This event has a video call.\nJoin: https://meet.google.com/ciz-tkqg-wah\n(US) +1 510-871-3307 PIN: 202814995#\nView more phone numbers: https://tel.meet/ciz-tkqg-wah?pin=9255233228024&hs=7
URL:https://www.clearpathne.org/events/garden-build-out-2/
ORGANIZER;CN="Events":MAILTO:c_3ivfavssqhsirsffhbds66kve8@group.calendar.google.com
END:VEVENT
BEGIN:VEVENT
DTSTART;TZID=America/New_York:20210519T190000
DTEND;TZID=America/New_York:20210519T193000
DTSTAMP:20260421T115247
CREATED:20210428T162839Z
LAST-MODIFIED:20210519T231733Z
UID:6432-1621450800-1621452600@www.clearpathne.org
SUMMARY:iRest Yoga Nidra (zoom) with Wendy Arena
DESCRIPTION:https://us04web.zoom.us/j/73172176603…\nThis event has a video call.\nJoin: https://meet.google.com/kmd-dzgb-ohz\n(US) +1 386-866-5261 PIN: 636201138#\nView more phone numbers: https://tel.meet/kmd-dzgb-ohz?pin=6816844805181&hs=7
URL:https://www.clearpathne.org/events/irest-yoga-nidra-zoom-with-wendy-arena/
ATTACH;FMTTYPE=image/png:https://www.clearpathne.org/wp-content/uploads/2021/05/Yoga.png
ORGANIZER;CN="Events":MAILTO:c_3ivfavssqhsirsffhbds66kve8@group.calendar.google.com
END:VEVENT
END:VCALENDAR