BEGIN:VCALENDAR
VERSION:2.0
PRODID:-//Clear Path for Veterans New England - ECPv6.9.0//NONSGML v1.0//EN
CALSCALE:GREGORIAN
METHOD:PUBLISH
X-WR-CALNAME:Clear Path for Veterans New England
X-ORIGINAL-URL:https://www.clearpathne.org
X-WR-CALDESC:Events for Clear Path for Veterans New England
REFRESH-INTERVAL;VALUE=DURATION:PT1H
X-Robots-Tag:noindex
X-PUBLISHED-TTL:PT1H
BEGIN:VTIMEZONE
TZID:America/New_York
BEGIN:DAYLIGHT
TZOFFSETFROM:-0500
TZOFFSETTO:-0400
TZNAME:EDT
DTSTART:20210314T070000
END:DAYLIGHT
BEGIN:STANDARD
TZOFFSETFROM:-0400
TZOFFSETTO:-0500
TZNAME:EST
DTSTART:20211107T060000
END:STANDARD
END:VTIMEZONE
BEGIN:VEVENT
DTSTART;TZID=America/New_York:20211020T180000
DTEND;TZID=America/New_York:20211020T200000
DTSTAMP:20260421T115542
CREATED:20210929T170000Z
LAST-MODIFIED:20210930T142246Z
UID:12440-1634752800-1634760000@www.clearpathne.org
SUMMARY:Frets & Vets
DESCRIPTION:Semi-formal gathering for musicians (Guitar players to start) of all levels to meet\, “jam”\, teach and learn from one another. This group is not meant for formal music lessons/theory.\nHowever\, depending on group members’ abilities\, instructional breakouts are welcomed.\nThe program will be open to Veterans and community members of all abilities. One of Clear Path’s missions is to bring the community together with Veterans\nRequirements: Guitar of any type (acoustic or electric). Additionally\, the group leader will provide 2-3 guitars + 1 amplifier for use by those who may not currently own\, or would like to demo other types of equipment\nthose interested please email brianp3335@gmail.com
URL:https://www.clearpathne.org/events/frets-vets/
LOCATION:84 Antietam St Devens\, MA
ATTACH;FMTTYPE=image/jpeg:https://www.clearpathne.org/wp-content/uploads/2021/09/fretsandvets.jpg
END:VEVENT
END:VCALENDAR